BEGIN:VCALENDAR
VERSION:2.0
CALSCALE:GREGORIAN
PRODID:-//MyApp//Calendar 1.0//EN
BEGIN:VEVENT
METHOD:PUBLISH
UID:65617@regionalniportaly.cz
DTSTAMP:20260421T221739Z
DTSTART;VALUE=DATE:20260417
DTEND;VALUE=DATE:20260418
SUMMARY:Jiří Kolbaba: Bhútán - Země hřmícího draka
DESCRIPTION:Bhútán - Země hřmícího drakaUž od dětství máme vřelý vztah k pohádkám. Země krále Miroslava existuje.Přijměte pozvání do království\, které vede osvícený a všemi obdivovaný panovník.Bhútánský král otevřel nádhernou zemi pro regulovaný turismus teprve nedávno.Zakázal používání igelitových tašek\, kouření a stanovil\, kolik procent území musí pokrývat lesy. Království neměří úspěch pomocí HDP\, ale sleduje Velké domácí štěstí.Nad vším bdí královským dekretem ustanovené Ministerstvo štěstí.&nbsp\;&nbsp\;Jiří Kolbaba&nbsp\;Cestovatel a fotograf&nbsp\;Jiří Kolbaba&nbsp\;vyjíždí každý rok na expedice a poznávací cesty do nejodlehlejších oblastí světa. Vozí textový a obrazový materiál\, který pravidelně zpracovává do veřejných a mediálních projektů. V Česku i zahraničí organizuje tématické&nbsp\;fotovýstavy&nbsp\;o krásách světa.Zajímavou formou zaznamenává detaily přírodních struktur a exotické tváře domorodců. Populární jsou zejména cestovatelovy&nbsp\;besedy a diashow\, stejně jako častá vystoupení v elektronických&nbsp\;médiích. Známý je jeho mnohaletý pořad na Rádiu Impuls. V celosvětové kampani Keep walking byl Jiří Kolbaba zařazen do elitní skupiny cestovatelů a dobrodruhů\, je viceprezidentem&nbsp\;Českého klubu cestovatelů.&nbsp\;&nbsp\;
LOCATION:Černovice
END:VEVENT
END:VCALENDAR