BEGIN:VCALENDAR
VERSION:2.0
CALSCALE:GREGORIAN
PRODID:-//MyApp//Calendar 1.0//EN
BEGIN:VEVENT
METHOD:PUBLISH
UID:64369@regionalniportaly.cz
DTSTAMP:20260421T204502Z
DTSTART;VALUE=DATE:20260331
DTEND;VALUE=DATE:20260401
SUMMARY:Pepa v Čudu - Hedvábnou stezkou
DESCRIPTION:Cestovatelská přednáška o cestě Arménií\, Íránem\, Turkmenistánem a Uzbekistánem.
LOCATION:Sezimovo Ústí
END:VEVENT
END:VCALENDAR