BEGIN:VCALENDAR
VERSION:2.0
CALSCALE:GREGORIAN
PRODID:-//MyApp//Calendar 1.0//EN
BEGIN:VEVENT
METHOD:PUBLISH
UID:63803@regionalniportaly.cz
DTSTAMP:20260421T174938Z
DTSTART;VALUE=DATE:20260410
DTEND;VALUE=DATE:20260411
SUMMARY:The Jefferson + Tomáš Průša Trio
DESCRIPTION:Poprocková kapela The Jefferson a folkrockové trio Tomáše Průši spojí síly pro večer plný songů pro každého\, kdo má rád hezké texty a pohodu.
LOCATION:Tábor
END:VEVENT
END:VCALENDAR