BEGIN:VCALENDAR
VERSION:2.0
CALSCALE:GREGORIAN
PRODID:-//MyApp//Calendar 1.0//EN
BEGIN:VEVENT
METHOD:PUBLISH
UID:61829@regionalniportaly.cz
DTSTAMP:20260421T221845Z
DTSTART;VALUE=DATE:20260130
DTEND;VALUE=DATE:20260131
SUMMARY:Divadelní hra Domácí@štěstí.hned
DESCRIPTION:Manželství Diany a Huga je v krizi. Ona - marketingová ředitelka\, on – umělec na volné noze. O veškerý chod domácnosti se stará on - ona vydělává. Ale nefunguje to.Do jejich domácnosti doslova vtrhne hospodyně Vilemína Gruntorádová z&nbsp\;agentury Domácí@štěstí.hned. Poradí\, jak vyčistit skvrny od vína a&nbsp\;rzi\, jak vypnouti vrásky\, jak zvětšit poprsí i&nbsp\;zahnat bolesti hlavy. Okamžitě vycítí\, že v&nbsp\;tomto manželství není něco v&nbsp\;pořádku a&nbsp\;rozhodne se −&nbsp\;proti vůli obou manželů −&nbsp\;udělat vítr i&nbsp\;v&nbsp\;jejich vztahu.Zjistíme\, jak řešily krize v&nbsp\;kuchyni a&nbsp\;loži naše babičky\, jak dosáhnout slasti v&nbsp\;oblasti lásky a&nbsp\;jak tuto slast vyžadovat.Dozvíme se\, že "normální mužský chce\, aby jeho žena stále stála za hřích"\, a&nbsp\;také to\, že "politici žádné manželské štěstí nemají"\, i&nbsp\;že "schopná žena si nikdy nevezme muže méně schopného" a&nbsp\;"dá−li Pánbůh zdraví −&nbsp\;tak i&nbsp\;hříchy budou". Takových a&nbsp\;dalších\, léty prověřených pravd z&nbsp\;jeviště zazní desítky.Vilemína Gruntorádová si ví rady v každé situaci\, až je někdy "na zabití".
LOCATION:Černovice
END:VEVENT
END:VCALENDAR