BEGIN:VCALENDAR
VERSION:2.0
CALSCALE:GREGORIAN
PRODID:-//MyApp//Calendar 1.0//EN
BEGIN:VEVENT
METHOD:PUBLISH
UID:61155@regionalniportaly.cz
DTSTAMP:20260421T205847Z
DTSTART;VALUE=DATE:20260206
DTEND;VALUE=DATE:20260207
SUMMARY:Doga a Morčata na útěku – turné 2026
DESCRIPTION:"Turné\, ze kterýho se poserete..." nese název série společných koncertů\, které spolu na jaře 2026 odjedou po ČR rockové stálice české scény\, kapely DOGA a Morčata na útěku.6.2. se zastaví v Milevsku v Kulturním domě.
LOCATION:Milevsko
END:VEVENT
END:VCALENDAR