BEGIN:VCALENDAR
VERSION:2.0
CALSCALE:GREGORIAN
PRODID:-//MyApp//Calendar 1.0//EN
BEGIN:VEVENT
METHOD:PUBLISH
UID:60024@regionalniportaly.cz
DTSTAMP:20260421T175018Z
DTSTART;VALUE=DATE:20251122
DTEND;VALUE=DATE:20251123
SUMMARY:Tábor ladí filmem
DESCRIPTION:🎬 Tábor ladí filmem!Nahlédni do zákulisí filmového světa – zábava\, napětí i adrenalin v jednom večeru! 🔥Hosty představíme brzy\, ale už teď víme\, že to bude stát za to!&nbsp\;🎟️ 90 Kč v předprodeji / 130 Kč na místě🕖 Start: 19:00&nbsp\;👉 Nalaď se s námi na filmovou vlnu!
LOCATION:Tábor
END:VEVENT
END:VCALENDAR