BEGIN:VCALENDAR
VERSION:2.0
CALSCALE:GREGORIAN
PRODID:-//MyApp//Calendar 1.0//EN
BEGIN:VEVENT
METHOD:PUBLISH
UID:59864@regionalniportaly.cz
DTSTAMP:20260421T224322Z
DTSTART;VALUE=DATE:20251203
DTEND;VALUE=DATE:20251204
SUMMARY:Vánoce s GingerZ feat Daniela
DESCRIPTION:Písničkáři Zdeněk a Daniela se Vám pokusí zpříjemnit Adventní čas cover verzemi známých&nbsp\;i neznámých písní s Adventním tématikou i bez ní. Těšíme se na Vás GingerZ feat Daniela + speciální host&nbsp\;&nbsp\;
LOCATION:Votice
END:VEVENT
END:VCALENDAR