BEGIN:VCALENDAR
VERSION:2.0
CALSCALE:GREGORIAN
PRODID:-//MyApp//Calendar 1.0//EN
BEGIN:VEVENT
METHOD:PUBLISH
UID:59060@regionalniportaly.cz
DTSTAMP:20260421T230625Z
DTSTART;VALUE=DATE:20251129
DTEND;VALUE=DATE:20251130
SUMMARY:Mikulášský běh aneb putování za Mikulášem
DESCRIPTION:Srdečně Vás zveme na tradiční mikulášskou akci v Sezimově Ústí. Spíše než o běh se jedná o podvečerní vycházku dětí do 9 let (možno s rodiči) pohádkovým lesem či loukou.Na trati jejich šikovnost a sportovní zdatnost vyzkouší spousta nejroztodivnějších pohádkových bytostí. Na konci trasy je čekají Mikuláš s andělem a čertem\, kteří jim předají mikulášskou nadílku.
LOCATION:Sezimovo Ústí
END:VEVENT
END:VCALENDAR