BEGIN:VCALENDAR
VERSION:2.0
CALSCALE:GREGORIAN
PRODID:-//MyApp//Calendar 1.0//EN
BEGIN:VEVENT
METHOD:PUBLISH
UID:59036@regionalniportaly.cz
DTSTAMP:20260421T192109Z
DTSTART;VALUE=DATE:20251115
DTEND;VALUE=DATE:20251116
SUMMARY:ECSTATIC DANCE - DJ Petr Douša
DESCRIPTION:Přijďte se uvolnit\, načerpat energii a dobrou náladu.Ecstatic Dance je druh volného spontánního tance\, který je velmi prospěšný pro naše tělo\, mysl\, emoce i duši. Stačí nechat tělo svobodně pohybovat v rytmu hudby a důvěřovat jeho hluboké moudrosti. Těšíme se na vás v krásném prostředí Centra Života\, kde si můžete dopřát čas pro sebe ve společnosti milých lidí. Tanec je vhodný pro každého\, není potřeba nic umět.&nbsp\;PRŮBĚH VEČERA16:45 Otevření prostoru\, příchod\, přivítání17:00 Úvodní kruh\, vysvětlení Ecstatic Dance17:15 Ecstatic Dance - DJ Petr Douša19:45 Závěrečné sdílení20:00 Možno spolu pobýt u čaje&nbsp\;PRAVIDLA ECSTATIC DANCEČistota prožitku. Tančíme bez vlivu alkoholu a drog.Bezpečný prostor. Během tance se nepořizují fotky ani videa.Hluboký prožitek. Při tanci nemluvíme\, slova nás z prožitku vytrhují.Tančíme naboso.
LOCATION:Tábor
END:VEVENT
END:VCALENDAR