BEGIN:VCALENDAR
VERSION:2.0
CALSCALE:GREGORIAN
PRODID:-//MyApp//Calendar 1.0//EN
BEGIN:VEVENT
METHOD:PUBLISH
UID:58843@regionalniportaly.cz
DTSTAMP:20260422T001730Z
DTSTART;VALUE=DATE:20251114
DTEND;VALUE=DATE:20251115
SUMMARY:Maturitní ples Oktáva\, GPdC
DESCRIPTION:Maturitní ples V8.G alias oktáva GPdC!&nbsp\;- moderátor: Vojta Novotný- kapela: Seskupení za účelem&nbsp\;
LOCATION:Tábor
END:VEVENT
END:VCALENDAR