BEGIN:VCALENDAR
VERSION:2.0
CALSCALE:GREGORIAN
PRODID:-//MyApp//Calendar 1.0//EN
BEGIN:VEVENT
METHOD:PUBLISH
UID:58787@regionalniportaly.cz
DTSTAMP:20260421T222025Z
DTSTART;VALUE=DATE:20251129
DTEND;VALUE=DATE:20251130
SUMMARY:Myslivecký ples
DESCRIPTION:radiční myslivecký ples myslivců Honebního společenstva Ondřejov - Zvánovice. Tentokrát v sále sportově-kulturního centra v Ondřejově. Bohatá myslivecká zvěřinová a věcná tombola. K tanci a poslechu skupina Anie Band. K zakousnutí zvěřinový guláš a jiné dobroty.&nbsp\;Vstupenky na konkrétní místa je možné zakoupit on-line přes níže uvedený odkaz. Neváhejte\, počet míst k sezení omezen!&nbsp\;
LOCATION:Ondřejov
END:VEVENT
END:VCALENDAR