BEGIN:VCALENDAR
VERSION:2.0
CALSCALE:GREGORIAN
PRODID:-//MyApp//Calendar 1.0//EN
BEGIN:VEVENT
METHOD:PUBLISH
UID:58715@regionalniportaly.cz
DTSTAMP:20260421T144013Z
DTSTART;VALUE=DATE:20260607
DTEND;VALUE=DATE:20260608
SUMMARY:4. ročník MIMIFest
DESCRIPTION:Zveme Vás na 4. ročník táborského rodinného&nbsp\;festivalu!
LOCATION:Tábor
END:VEVENT
END:VCALENDAR