BEGIN:VCALENDAR
VERSION:2.0
CALSCALE:GREGORIAN
PRODID:-//MyApp//Calendar 1.0//EN
BEGIN:VEVENT
METHOD:PUBLISH
UID:58443@regionalniportaly.cz
DTSTAMP:20260422T074653Z
DTSTART;VALUE=DATE:20251031
DTEND;VALUE=DATE:20251101
SUMMARY:Samhain
DESCRIPTION:SAMHAIN se koná 31. října 2025 od 18:00.Víte proč kelti slavili přechod mezi létem a zimou\, brali to jako nový rok a zároveň to bylo chápáno jako období\, kdy byla hranice mezi světem živých a mrtvých nejtenčí?Program:Válečná umění keltů - představeníHryHarfa + vyprávění starého keltského barda&nbsp\;- víte jaký je rozdíl mezi Samhain\, dušičkami\, Halloweenem nebo Dia de los Muertos? Přijďte si poslechnout vyprávění starého kelta.Hudba k poslechu i tanci&nbsp\;- kapela Výběr z HroznůRituál&nbsp\;starých keltůTroubení na barbarský rohMalování keltských znaků na obličejSamhain je oslava příchodu zimy a keltského nového roku. Poodhlame závoj mezi světem živých a mrtvých.
LOCATION:Tábor
END:VEVENT
END:VCALENDAR