BEGIN:VCALENDAR
VERSION:2.0
CALSCALE:GREGORIAN
PRODID:-//MyApp//Calendar 1.0//EN
BEGIN:VEVENT
METHOD:PUBLISH
UID:57304@regionalniportaly.cz
DTSTAMP:20260421T225404Z
DTSTART;VALUE=DATE:20251128
DTEND;VALUE=DATE:20251129
SUMMARY:Vilém Veverka\, Kateřina Englichová\, Karolína Berková
DESCRIPTION:Táborská rodačka\, mezzosopranistka Karolína Berková vystoupí spolu s harfenistkou Kateřinou Englichovou. Spojení s Vilémem Veverkou slibuje skvělý hudební zážitek.
LOCATION:Tábor
END:VEVENT
END:VCALENDAR