BEGIN:VCALENDAR
VERSION:2.0
CALSCALE:GREGORIAN
PRODID:-//MyApp//Calendar 1.0//EN
BEGIN:VEVENT
METHOD:PUBLISH
UID:57151@regionalniportaly.cz
DTSTAMP:20260421T204645Z
DTSTART;VALUE=DATE:20251125
DTEND;VALUE=DATE:20251126
SUMMARY:Romantic Woman
DESCRIPTION:Romantic Woman - originální seskupení zpěvaček vás zve na romantický vánoční koncert do Baziliky Navštívení Panny Marie v Milevsku.Připravené hudební aranže naživo doprovodí smyčce a skotské dudy. V keltském stylu zazní největší světové hity jako Amazing Grace\, My Heart Will Go On\, Loch Lomond\, Nella Fantasia nebo vánoční O Holy Night\, Adeste Fideles a mnoho dalších.Zpívají: Monika Sommerová\, Jana Štěpánková\, Barbora Konopásek Fialová a Veronika Vršecká&nbsp\;Večerem provází moderátor Honza Musil&nbsp\;
LOCATION:Milevsko
END:VEVENT
END:VCALENDAR