BEGIN:VCALENDAR
VERSION:2.0
CALSCALE:GREGORIAN
PRODID:-//MyApp//Calendar 1.0//EN
BEGIN:VEVENT
METHOD:PUBLISH
UID:57149@regionalniportaly.cz
DTSTAMP:20260422T054742Z
DTSTART;VALUE=DATE:20251016
DTEND;VALUE=DATE:20251017
SUMMARY:Sirény na cestách v Černovicích
DESCRIPTION:SIRÉNY NA CESTÁCHTalkshow Sirény na cestách je divadelní představení\, v němž vám herečky a zpěvačky Sandra Pogodová\, Jitka Asterová a Linda Finková sdílejí vtipné i dojemné příběhy ze svých profesních i soukromých životů. Tento živelný a interaktivní pořad kombinuje stand-up comedy\, komorní hudební vystoupení a otevřené vyprávění\, při kterém se protagonistky s humorem sobě vlastním „pitvají“ ve vztazích s muži\, v mateřství i v peripetiích hereckého zákulisí.Jejich vzájemná chemie a improvizace dodávají představení dynamiku\, zatímco písně a šansony v podání Lindy Finkové a Sandry Pogodové slouží jako emocionální odlehčení. Můžete se těšit na neformální\, uvolněnou atmosféru a nekonečnou lavinu smíchu\, ale i na chvíle k zamyšlení. Pořad je určen pro dospělé publikum\, které ocení břitký humor a autentickou výpověď tří silných osobností.Po skončení pořadu následuje jako bonus autogramiáda.
LOCATION:Černovice
END:VEVENT
END:VCALENDAR