BEGIN:VCALENDAR
VERSION:2.0
CALSCALE:GREGORIAN
PRODID:-//MyApp//Calendar 1.0//EN
BEGIN:VEVENT
METHOD:PUBLISH
UID:56937@regionalniportaly.cz
DTSTAMP:20260422T001905Z
DTSTART;VALUE=DATE:20251113
DTEND;VALUE=DATE:20251114
SUMMARY:Jan Mráček & Jiří Vodička
DESCRIPTION:Dva mistři\, jedno pódium: Vodička &amp\; Mráček – Symfonie dokonalosti. To je nový\, unikátní projekt houslistů Jiřího Vodičky a Jana Mráčka.Ačkoliv každý z nich září jedinečnou energií a projevem\, jejich společné průsečíky a vzájemné pochopení pro hudbu vytváří strhující harmonii. Toto spojení dvou ojedinělých hráčů slibuje večer plný virtuozity\, vášně a nezapomenutelných hudebních okamžiků. Nenechte si ujít jedinečnou příležitost vidět a slyšet tyto houslové velikány pohromadě!
LOCATION:Tábor
END:VEVENT
END:VCALENDAR