BEGIN:VCALENDAR
VERSION:2.0
CALSCALE:GREGORIAN
PRODID:-//MyApp//Calendar 1.0//EN
BEGIN:VEVENT
METHOD:PUBLISH
UID:56876@regionalniportaly.cz
DTSTAMP:20260422T040550Z
DTSTART;VALUE=DATE:20250913
DTEND;VALUE=DATE:20250914
SUMMARY:Přednáška Dan Vávra + Fantasy podkroví
DESCRIPTION:Přijďte si užít jedinečný den plný fantazie a her! Od&nbsp\;13:00&nbsp\;vás čeká prohlídka našeho&nbsp\;Fantasy podkroví&nbsp\;– kostýmy\, deskovky a virtuální realita\, které si můžete vyzkoušet na vlastní kůži.Poté se můžete těšit na&nbsp\;přednášku Dana Vávry\, předního českého herního vývojáře a autora legendární hry&nbsp\;Kingdom Come: Deliverance.
LOCATION:Tábor
END:VEVENT
END:VCALENDAR