BEGIN:VCALENDAR
VERSION:2.0
CALSCALE:GREGORIAN
PRODID:-//MyApp//Calendar 1.0//EN
BEGIN:VEVENT
METHOD:PUBLISH
UID:56865@regionalniportaly.cz
DTSTAMP:20260422T041014Z
DTSTART;VALUE=DATE:20250913
DTEND;VALUE=DATE:20250914
SUMMARY:Husitský hodokvas na Housově mlýně
DESCRIPTION:Vstupte táborskou branou Housova mlýna a pozvedněte svůj kalich. Ať jste malí\, ať jste velcí\, přidejte se k bavičům\, kejklířům a husitským bojovníkům ke slavnostem hodokvasu! Objevte zákoutí Housáku\, tančete v rytmech živé kapely a procházejte se podél Tismenického potoka. Chybět nebude ani pořádnej nášup v místní krčmě a prohlídka filmové zbrojnice se sbírkou 3000 rekvizit ze všech historických filmů\, které se v Čechách natáčely.&nbsp\;Hodokvas se&nbsp\;koná 13.&nbsp\;září 2025. Začátek hodování&nbsp\;19:30. Vstup do&nbsp\;zbrojnice bude vždy s&nbsp\;průvodcem\, časy prohlídek budou v&nbsp\;17:00\, 18:00\, 19:00 a&nbsp\;20:00.
LOCATION:Tábor
END:VEVENT
END:VCALENDAR