BEGIN:VCALENDAR
VERSION:2.0
CALSCALE:GREGORIAN
PRODID:-//MyApp//Calendar 1.0//EN
BEGIN:VEVENT
METHOD:PUBLISH
UID:56795@regionalniportaly.cz
DTSTAMP:20260421T230800Z
DTSTART;VALUE=DATE:20251129
DTEND;VALUE=DATE:20251130
SUMMARY:Večer s písničkou
DESCRIPTION:VEČER S PÍSNIČKOUPřijďte nařezat svým ušním bubínkům\, pokývat hlavou a zatančit si v kole na melodické písně o lásce\, přírodě\, rozmnožování\, násilí a pekle.O nevšední hudební zážitek se postarají hudebníci s vytříbeným hudebním stylem:RV-4&nbsp\; &nbsp\; &nbsp\;(punk rock Benešov)HALALÍ&nbsp\; &nbsp\; &nbsp\;(grind punk Praha)AGGRESSIVE TYRANTS&nbsp\; &nbsp\; &nbsp\;(grind hardcore Světlá nad Sázavou)SHAMPOON KILLER&nbsp\; &nbsp\; &nbsp\;(death grind Praha)&nbsp\;Start v 18:00 hod.\, vstup do Sokolovny bude umožněn od 17:00 hod.V provozu bar\, něco na žvejkání bude taky připraveno. Hlady ani žízní nechcípneš.V blízkosti BUS i vlaková zastávka\, káru brát nemusíš. Pokud si ale seženeš votroka\, co se obětuje a odkroutí to\, v blízkém okolí je dostatek bezplatných parkovacích míst.Všechny kapely budou mít na místě v prodeji svůj merch\, tak ne že všechno prochlastáš! Ať máš taky nějaký love na podporu těch kluků šikovnejch.&nbsp\;Vítáni&nbsp\;jsou všichni milovníci hudby\, předem ale upozorňujeme\, že skalní fanoušci Káji&nbsp\;Gotta a Helči Vondráčkové budou odcházet poněkud zklamaní :-D&nbsp\;
LOCATION:Poříčí nad Sázavou
END:VEVENT
END:VCALENDAR