BEGIN:VCALENDAR
VERSION:2.0
CALSCALE:GREGORIAN
PRODID:-//MyApp//Calendar 1.0//EN
BEGIN:VEVENT
METHOD:PUBLISH
UID:56719@regionalniportaly.cz
DTSTAMP:20260422T072105Z
DTSTART;VALUE=DATE:20250905
DTEND;VALUE=DATE:20250906
SUMMARY:Back to school party
DESCRIPTION:AHOJzveme Vás na ​Back to school&nbsp\;party do&nbsp\;KD Dražice\, tak kupte vstupenku\, vezměte&nbsp\;kamarády a neváhejte přijít!• vstupné v předprodeji&nbsp\;150Kč&nbsp\;/ na místě&nbsp\;180Kč• vstup&nbsp\;15+• \,\,HAPPY HOUR” 22:00-23:00 panák za&nbsp\;20\,-•&nbsp\;DJ GROOVE DAN&nbsp\;
LOCATION:Dražice
END:VEVENT
END:VCALENDAR