BEGIN:VCALENDAR
VERSION:2.0
CALSCALE:GREGORIAN
PRODID:-//MyApp//Calendar 1.0//EN
BEGIN:VEVENT
METHOD:PUBLISH
UID:56214@regionalniportaly.cz
DTSTAMP:20260421T142625Z
DTSTART;VALUE=DATE:20260703
DTEND;VALUE=DATE:20260704
SUMMARY:The Beatles Revival a legendární Karel Kahovec
DESCRIPTION:Jedinečný narozeninový&nbsp\;megakoncert v pátek&nbsp\;3.7.2026&nbsp\;od 20:00 na částečně krytém letním parketu restaurace Kozí Hrádek u Tábora .&nbsp\;Legendární Karel Kahovec vystoupí společně s jednou s nejlepších světových Beatles Revival kapel - The Beatles Revival a speciálním hostem MICHALEM ŠINDELÁŘEM (ex-Katapult\, autor a zpěvák hitu HOŘELY PADALY HVĚZDY)v pátek&nbsp\;3.7.2026&nbsp\;od 20:00 v nádherném areálu&nbsp\;restaurace Kozí Hrádek u TáboraNEČÍSLOVANÉ SEZENÍ A STÁNÍZveme vás na výjimečný hudební večer\, kde své životní jubileum oslaví nezaměnitelný&nbsp\;Karel Kahovec&nbsp\;– ikona českého bigbítu a jeden z nejvýraznějších hlasů své generace.Na jednom pódiu se představí společně se skupinou&nbsp\;The Beatles Revival\, která koncert obohatí o nesmrtelné hity slavných „Brouků“.Můžete se těšit na největší Kahovcovy písně\, mezi nimi například:Háj ModřínůPaní v černémSvou lásku jsem rozdalPoprava blond holkyA samozřejmě nebudou chybět legendární skladby&nbsp\;The Beatles\, které dodají večeru jedinečnou atmosféru.Jako vzácný host koncertu se představí bývalý bubeník legendárního Katapultu -Michal Šindelář&nbsp\;s fláky od&nbsp\;Katapultu a svým jedinečným hitem&nbsp\;Hořely Padaly HvězdySoučástí koncertu bude také&nbsp\;vzpomínka na Petra Nováka\, jednoho z největších hlasů české hudby. Připomeneme si jeho nezapomenutelné hity:PovídejHvězdičko blýskaváJá budu chodit po špičkáchNáhrobní kámenPřijďte zažít večer plný emocí\, velkých hitů a pocty třem hudebním legendám.Tahle narozeninová oslava bude stát za to!&nbsp\;V případě eventuálního úmrtí Karla Kahovce (např. předávkování Viagrou) se koncert koná jako vzpomínka na Karla.
LOCATION:Sezimovo Ústí
END:VEVENT
END:VCALENDAR