BEGIN:VCALENDAR
VERSION:2.0
CALSCALE:GREGORIAN
PRODID:-//MyApp//Calendar 1.0//EN
BEGIN:VEVENT
METHOD:PUBLISH
UID:56115@regionalniportaly.cz
DTSTAMP:20260422T021736Z
DTSTART;VALUE=DATE:20250927
DTEND;VALUE=DATE:20250928
SUMMARY:Retro Párty
DESCRIPTION:🎉 RETRO PÁRTY JE TADY! 🎉Připrav se na noc plnou neonů\, diskotékových hitů a skvělé atmosféry!🕺💃&nbsp\;Obleč se do retro stylu\, vezmi partu a přijď si užít nezapomenutelný večer! 🔥Největší retro jízda podzimu je tady – buď u toho!&nbsp\;
LOCATION:Ješetice
END:VEVENT
END:VCALENDAR