BEGIN:VCALENDAR
VERSION:2.0
CALSCALE:GREGORIAN
PRODID:-//MyApp//Calendar 1.0//EN
BEGIN:VEVENT
METHOD:PUBLISH
UID:56100@regionalniportaly.cz
DTSTAMP:20260422T040739Z
DTSTART;VALUE=DATE:20250917
DTEND;VALUE=DATE:20250918
SUMMARY:Concertino Praga – koncert laureátů soutěže 
DESCRIPTION:V Táboře se rodí nová tradice! Letos opět přivítáme mladé a nadějné sólisty z celého světa v rámci koncertu&nbsp\;Concertino Praga. Podpora mladých hudebníků je jedním z hlavních pilířů našeho festivalu a jsme hrdí\, že můžeme i letos představit budoucí hvězdy klasické hudby.Přijďte si poslechnout mimořádné výkony mladých talentů\, kteří vás okouzlí svým uměním a vášní pro hudbu.
LOCATION:Tábor
END:VEVENT
END:VCALENDAR