BEGIN:VCALENDAR
VERSION:2.0
CALSCALE:GREGORIAN
PRODID:-//MyApp//Calendar 1.0//EN
BEGIN:VEVENT
METHOD:PUBLISH
UID:55813@regionalniportaly.cz
DTSTAMP:20260422T054726Z
DTSTART;VALUE=DATE:20250828
DTEND;VALUE=DATE:20250829
SUMMARY:Čau\, léto!
DESCRIPTION:
LOCATION:Tábor
END:VEVENT
END:VCALENDAR