BEGIN:VCALENDAR
VERSION:2.0
CALSCALE:GREGORIAN
PRODID:-//MyApp//Calendar 1.0//EN
BEGIN:VEVENT
METHOD:PUBLISH
UID:55736@regionalniportaly.cz
DTSTAMP:20260422T072007Z
DTSTART;VALUE=DATE:20250705
DTEND;VALUE=DATE:20250706
SUMMARY:Slavnosti Mistra Jana Husa
DESCRIPTION:Každý rok si státním svátkem připomínáme upálení Mistra Jana Husa\,upálení\, které mělo zásadní vliv na dějinné události v&nbsp\;Čechách\, přineslohusitské války a&nbsp\;předznamenalo vývoj k&nbsp\;německé reformaci a&nbsp\;rozpadkatolické univerzality.Zapalování ohně pojímáme jako intimní neopulentní připomínkuúmrtí všech osob zahynuvších v&nbsp\;plamenech\, připomínáme si tímprostřednictvím slavného dne Jana Husa oběti všech čarodějnickýchprocesů\, živé zápalné oběti Jana Palacha\, Zajíce a&nbsp\;dalších.&nbsp\;Program na Housově mlýně začíná v&nbsp\;18 hodin.Těšit se&nbsp\;můžete na válečníky\, promítání filmu Jan Hus\, interaktivní hry pro děti\, živá hudba a&nbsp\;speciální menu! Prohlídky filmové zbrojnice v&nbsp\;průběhu večera (Prohlídky filmové zbrojnice nejsou zahrnuty ve vstupném.)Ve 22:00 zapálení pietních ohňů.
LOCATION:Tábor
END:VEVENT
END:VCALENDAR