BEGIN:VCALENDAR
VERSION:2.0
CALSCALE:GREGORIAN
PRODID:-//MyApp//Calendar 1.0//EN
BEGIN:VEVENT
METHOD:PUBLISH
UID:55482@regionalniportaly.cz
DTSTAMP:20260421T224123Z
DTSTART;VALUE=DATE:20251129
DTEND;VALUE=DATE:20251130
SUMMARY:Maturitní ples - 4.A - OA Tábor
DESCRIPTION:Připoutejte se – čeká vás nezapomenutelný let kolem světa!Zveme vás na maturitní ples třídy 4.A\, který vás během jediného večera provede různými kouty planety.Těšit se můžete na:✦ slavnostní nástup maturantů✦ originální předtančení✦ mezinárodní atmosféru✦ bohatou tombolu✦ půlnoční překvapení✦ afterparty plnou energiePřijďte s námi oslavit konec jedné cesty a začátek nové – ve velkém stylu!Srdcem z Tábora\, duší z celého světa.
LOCATION:Tábor
END:VEVENT
END:VCALENDAR