BEGIN:VCALENDAR
VERSION:2.0
CALSCALE:GREGORIAN
PRODID:-//MyApp//Calendar 1.0//EN
BEGIN:VEVENT
METHOD:PUBLISH
UID:54800@regionalniportaly.cz
DTSTAMP:20260422T072251Z
DTSTART;VALUE=DATE:20250830
DTEND;VALUE=DATE:20250831
SUMMARY:Mezinárodní koncert dechových hudeb Z jižních Čech a Moravy
DESCRIPTION:Připravte se na velkou událost ! ! !Dechovky opět míří do Chýnova!Na 187. ročník Mezinárodního koncertu dechových hudeb&nbsp\;pozvali pořadatelé&nbsp\;jedny z nejlepších dechových kapel\, které momentálně na Moravě a na Slovensku jsou.30. srpna od 14:00 v parku před školou vystoupí kapely Vlčovanka ze Slovenska\,&nbsp\;Freistädter Böhmische&nbsp\;z Rakouska\,&nbsp\; Túfaranka a MUZIKANTI z JIŽNÍCH ČECH.&nbsp\;Program koncertu:Freistädter Böhmische&nbsp\;z RakouskaVlčovanka ze SlovenskaMUZIKANTI z JIŽNÍCH ČECH&nbsp\;TúfarankaPo skončení koncertu taneční zábava s Túfarankou\, Muzikanty z jižních Čech do 22:00.Celým koncertem provází Karel Hegner.Změna programu vyhrazena.&nbsp\;Pro návštěvníky je připraveno:OBČERSTVENÍ&nbsp\;&nbsp\;je zajiště za příznivé ceny - maso z udírny\,&nbsp\;grilu\, halušky\, řízky\, bramborák\, domácí zákusky\,&nbsp\;&nbsp\;míchané nápoje\, pivo\, limo a další...&nbsp\;PARKOVÁNÍ&nbsp\;- v místě zdarma500 míst k sezení pod stany.
LOCATION:Chýnov
END:VEVENT
END:VCALENDAR