BEGIN:VCALENDAR
VERSION:2.0
CALSCALE:GREGORIAN
PRODID:-//MyApp//Calendar 1.0//EN
BEGIN:VEVENT
METHOD:PUBLISH
UID:54269@regionalniportaly.cz
DTSTAMP:20260422T055015Z
DTSTART;VALUE=DATE:20250612
DTEND;VALUE=DATE:20250613
SUMMARY:Fast Food Orchestra na ŽiWELL VlakFest
DESCRIPTION:Přijď&nbsp\;si užít večer plný živé hudby\, piva a jedinečné atmosféry pod širým nebem\, a hlavně koncert Fast Food Orchestra!Hudebně-cestovatelský festival na kolejích\, který jinde nezažiješ – to je Žiwell VlakFest. Čtyři dny koncertů\, cestovatelských přednášek na vlaku i mimo něj.&nbsp\;Během 4 dnů společně ujedeme po trati stovky kilometrů\, ve vlaku si poslechneme cestovatelské přednášky\, kapely\, užijeme si hudební jamy\,... výlety\, koupačky v přírodních lomech a skvělou bandu lidí. Letos jedeme už po sedmé&nbsp\;a znovu jsme nachystali neokoukaná místa\, které pohltí svou atmosférou. A 12. června máme svou zastávku v Obratani\, přijdeš?Vstupenka platí jen na jeden večer. Pokud chceš jízdenku na celý festival\, kupuj na&nbsp\;https://www.vlakfest.cz/ziwell-vlakfest&nbsp\;
LOCATION:Obrataň
END:VEVENT
END:VCALENDAR