BEGIN:VCALENDAR
VERSION:2.0
CALSCALE:GREGORIAN
PRODID:-//MyApp//Calendar 1.0//EN
BEGIN:VEVENT
METHOD:PUBLISH
UID:53784@regionalniportaly.cz
DTSTAMP:20260422T001506Z
DTSTART;VALUE=DATE:20250816
DTEND;VALUE=DATE:20250817
SUMMARY:Fantom na zámku - Neustupov
DESCRIPTION:Představitelé Fantoma opery zazpívají na zámku NeustupovV sobotu 16.8.2025 zazní od 20:30 pod širým nebem na nádvoří zámku Neustupov písně z českých a světových muzikálů v podání hlavních představitelů světoznámého muzikálu Fantom opery Radima Schwaba\, Tomáše Vaňka a&nbsp\;Moniky Sommerové.Těšit se můžete na The Music Of The Night\, jednu z ústředních písní muzikálu Fantom opery a hitů z muzikálů: DRACULA\, KYTICE\, SUNSET BOULEVARD\, HELLO DOLLY!\, OBRAZ DORIANA GRAYE\, EXCALIBUR\, WEST SIDE STORY nebo OSOBNÍ STRÁŽCE.O ZÁMKUZámek je takový skrytý skvost Středočeského kraje.- 10min od Čapího hnízda- 50min z PrahyZažijte kouzlo zámku\, který se po staletích otevírá veřejnosti. Komnaty plné historie\, romantická atmosféra a kulturní programy dělají z návštěvy Neustupova výjimečný zážitek.ÚčinkujíRadim SchwabMonika SommerováTomáš Vaněk&nbsp\;Časový harmonogram19:30&nbsp\;Otevření areálu pro diváky20:30 Zahájení koncertu&nbsp\;1.část21:15&nbsp\;Přestávka (15min)21:30&nbsp\;Zahájení koncertu 2.část22:15&nbsp\;Ukončení koncertu
LOCATION:Neustupov
END:VEVENT
END:VCALENDAR