BEGIN:VCALENDAR
VERSION:2.0
CALSCALE:GREGORIAN
PRODID:-//MyApp//Calendar 1.0//EN
BEGIN:VEVENT
METHOD:PUBLISH
UID:53552@regionalniportaly.cz
DTSTAMP:20260422T071602Z
DTSTART;VALUE=DATE:20250730
DTEND;VALUE=DATE:20250731
SUMMARY:Sanitka splněných snů - benefiční koncert
DESCRIPTION:Benefiční koncert pro Sanitku splněných snů.Spolek pro Heřmaničky\, z.s. se rozhodl uskutečnit&nbsp\;benefiční koncert na podporu projektu Sanitka splněných snů – jedinečné iniciativy\, která plní poslední přání lidem na konci života.Sanitka splněných snů https://sanitkasnu.cz/&nbsp\;je projekt\, který umožňuje nevyléčitelně nemocným lidem naplnit jejich poslední přání. Ať už jde o návštěvu milovaného místa\, setkání s blízkými\, nebo jen pocit svobody a radosti. Sanitka splněných snů jim pomáhá důstojně uzavřít svůj příběh.Přináší do těžkých okamžiků světlo\, důstojnost a lidskost – a my věříme\, že právě takové příběhy si zaslouží pozornost a podporu.&nbsp\;Na akci vystoupí - (všichni se vzdali nároku na honorář)Standa HložekČejka Band&nbsp\; &nbsp\; &nbsp\; &nbsp\; &nbsp\; &nbsp\; &nbsp\; &nbsp\; &nbsp\; Kateřina ŠevidováPetr Kunc - RockTom&nbsp\; &nbsp\; &nbsp\; &nbsp\; &nbsp\; &nbsp\; &nbsp\; &nbsp\; &nbsp\;LTA rockPopraskTuto akci podpoříte zakoupením vstupenky na koncert.Výtěžek z této charitativní akce bude věnován&nbsp\;Sanitce&nbsp\;splněných snů.&nbsp\;
LOCATION:Heřmaničky
END:VEVENT
END:VCALENDAR