BEGIN:VCALENDAR
VERSION:2.0
CALSCALE:GREGORIAN
PRODID:-//MyApp//Calendar 1.0//EN
BEGIN:VEVENT
METHOD:PUBLISH
UID:53285@regionalniportaly.cz
DTSTAMP:20260422T053809Z
DTSTART;VALUE=DATE:20250611
DTEND;VALUE=DATE:20250612
SUMMARY:Benewitz quartet & Talich quartet
DESCRIPTION:Připravte se na jedinečný večer plný krásných tónů! Spojení dvou prvotřídních souborů slibuje skutečně mimořádný hudební zážitek. Náš každoroční koncert "pro fajnšmekry" letos naplní společné provedení mistrovských oktetů Maxe Brucha a Felixe Mendelssohna-Bartholdyho. Nechte se unést silou a melodičností těchto ikonických děl!
LOCATION:Tábor
END:VEVENT
END:VCALENDAR