BEGIN:VCALENDAR
VERSION:2.0
CALSCALE:GREGORIAN
PRODID:-//MyApp//Calendar 1.0//EN
BEGIN:VEVENT
METHOD:PUBLISH
UID:52787@regionalniportaly.cz
DTSTAMP:20260422T075830Z
DTSTART;VALUE=DATE:20250517
DTEND;VALUE=DATE:20250518
SUMMARY:Nouzovský – Horák – Veverka
DESCRIPTION:V rámci jubilejního ročníku festivalu Klasici v Táboře se můžete těšit na jedinečný koncert\, který slibuje neotřelé hudební spojení. Stálá dvojice Petr Nouzovský (violoncello) a Ladislav Horák (akordeon) si tentokrát přizvala výjimečného hobojistu Viléma Veverku.Petr Nouzovský je jedním z nejvýraznějších českých violoncellistů současnosti\, který si získal uznání na mezinárodní scéně. Jeho hra se vyznačuje hlubokou emocionalitou a virtuozitou.Vilém Veverka je hobojový virtuos\, který je známý svým inovativním přístupem k interpretaci a schopností překračovat hranice žánrů.Ladislav Horák je akordeonista\, který se specializuje na interpretaci klasické hudby a jeho hra je charakteristická technickou zdatností a citlivostí.Těšte se na večer plný kontrastů\, kde se setkávají filmové melodie s hlubokými myšlenkami starších hudebních děl. V podání těchto tří virtuózů zazní skladby\, které vás provedou napříč hudebními žánry a staletími.
LOCATION:Tábor
END:VEVENT
END:VCALENDAR