BEGIN:VCALENDAR
VERSION:2.0
CALSCALE:GREGORIAN
PRODID:-//MyApp//Calendar 1.0//EN
BEGIN:VEVENT
METHOD:PUBLISH
UID:52786@regionalniportaly.cz
DTSTAMP:20260422T060731Z
DTSTART;VALUE=DATE:20250908
DTEND;VALUE=DATE:20250909
SUMMARY:Belfiato quintet & Petr Nekoranec (tenor)
DESCRIPTION:Spojení krásného hlasu s virtuózními hráči na dechové nástroje. V Táboře v podání světově uznávaného pěvce zazní mimo jiné úplné provedení skladby Leoše Janáčka Zápisník zmizelého v úpravě Jaroslava Pelikána.
LOCATION:Tábor
END:VEVENT
END:VCALENDAR