BEGIN:VCALENDAR
VERSION:2.0
CALSCALE:GREGORIAN
PRODID:-//MyApp//Calendar 1.0//EN
BEGIN:VEVENT
METHOD:PUBLISH
UID:52752@regionalniportaly.cz
DTSTAMP:20260422T002316Z
DTSTART;VALUE=DATE:20251119
DTEND;VALUE=DATE:20251120
SUMMARY:Souboj Klavírů v Táboře
DESCRIPTION:Zveme vás na jedinečný koncert dvou výjimečných klavíristů a hudebních skladatelů – Ondřeje Brzobohatého a Ondřeje Brouska! Tito celoživotní přátelé spojí své hudební mistrovství na pódiu v&nbsp\;táborském hotelu Palcát!&nbsp\;Přijďte si užít večer plný virtuózní klavírní hry a nezapomenutelných melodií!Jak by zněla „Osudová“\, kdyby byl Beethoven optimista? Proč pláčeme při banálním filmovém dialogu? Co je to „nevhodná“ hudba? Že se u klasické hudby nedá pořádně zasmát? Může mít „Souboj klavírů“ vítěze?Na tyto otázky vám stylově odpoví duo Brousek – Brzobohatý\, které připravilo nezapomenutelný večer plný hudebních vtipů s dvěma klavíry.„Celé představení si můžete naplno vychutnat\, díky korunnímu klenotu mezi koncertními klavíry C. Bechstein D 282.Tímto děkujeme našemu partnerovi C. Bechstein -&nbsp\;www.bechstein.com&nbsp\;za podporu akce.“
LOCATION:Tábor
END:VEVENT
END:VCALENDAR