BEGIN:VCALENDAR
VERSION:2.0
CALSCALE:GREGORIAN
PRODID:-//MyApp//Calendar 1.0//EN
BEGIN:VEVENT
METHOD:PUBLISH
UID:52399@regionalniportaly.cz
DTSTAMP:20260422T041655Z
DTSTART;VALUE=DATE:20250422
DTEND;VALUE=DATE:20250423
SUMMARY:Talkshow: Ivo Šmoldas a jeho host
DESCRIPTION:Zveme Vás na volné pokračování zábavného pořadu filozofa\, básníka\, kulturního publicisty a scenáristy Ivo Šmoldase.Pořad je založen na humorném a originálním vyprávění životních příběhů jak ze soukromého\, tak i pracovního života Ivo Šmoldase.Hostem talkshow je&nbsp\;Iva Hüttnerová -&nbsp\;herečka\, výtvarnice a spisovatelka&nbsp\;Ivo Šmoldasčeský básník\, nakladatelský redaktor\, kulturní publicista\, scenárista\, vyhledávaný a obsazovaný moderátor\, překladatel a filozof Pracoval jako nakladatelský redaktor\, manažer i majitel nakladatelství.Překládal z angličtiny a slovenštiny povídky i romány. Můžeme se s ním setkat na vlnách Českého rozhlasu\, kde uvádí vlastní talk show Lenoška Iva Šmoldase. Pro Rádio Impuls připravoval glosy reflektující aktuální společenské dění. Z těchto krátkých komentářů vznikly dvě knihy Co Vy na to\, pane Šmoldasi? 1+2.Vystupoval zvláště v zábavných a diskusních pořadech například Dementi\, TV Prima. V poslední době se ale dostává do povědomí diváků hlavně jako vyhledávaný moderátor a oblíbený host různých televizních show a zábavných pořadů\, s pohotovými a vtipnými reakcemi.
LOCATION:Černovice
END:VEVENT
END:VCALENDAR