BEGIN:VCALENDAR
VERSION:2.0
CALSCALE:GREGORIAN
PRODID:-//MyApp//Calendar 1.0//EN
BEGIN:VEVENT
METHOD:PUBLISH
UID:52398@regionalniportaly.cz
DTSTAMP:20260422T041747Z
DTSTART;VALUE=DATE:20250411
DTEND;VALUE=DATE:20250412
SUMMARY:Koncert: Poutníci v Černovicích
DESCRIPTION:Hudební skupina Poutníci oslaví v&nbsp\;roce 2025 výročí a sice&nbsp\; 55 let od svého vzniku\, a toto jubileum bude celoročně slavit s&nbsp\;pořadem :\,\, 55 let na country scéně.“&nbsp\;Tento pořad odehraje kapela s bendžistou Petrem Voštou\, zpěvákem Jakubem Bílým. To jsou ti mladší současní Poutníci. Ti starší současníci jsou Jan Máca\, mandolína a zpěv a Jiří Pola – Karas\, hráč na elektrický kontrabas\, zpěvák a kapelník.Soubor vydal za dobu svojí činnosti 16 CD nebo LP\, poslední nosič si kapela produkovala sama a jmenuje se „ Stíny na střechách.“Toto CD je složené z novinek\, jenž napsali sami současní poutničtí hudebníci. Jedinou výjimkou\, co se týče dlouhověkosti\, je úvodní píseň\, podle které se deska jmenuje. Texty k&nbsp\;většině těch nových skladeb napsal textař z&nbsp\;Trutnova – David KonopáčTaké v&nbsp\;roce 2025 se skupina bude snažit odehrát opět co nejvíce vystoupení\, jak v&nbsp\;Česku tak i na Slovensku či v&nbsp\;jiné zahraniční zemi.Program poutnického oslavného vystoupení je tvořen z písní ze zmíněného CD.Ale hlavně z poutnických hitů jako jsou skladby Panenka\, Pojďme se napít či Hotel Hillary a řada jiných a které pro kapelu napsal její bývalý člen Robert Křesťan a současný kapelník Jiří Pola.O spoustě těchto písní se dá říct\, že u nás zlidověly.A právě tyto&nbsp\; na vás budou čekat během koncertu Poutníků&nbsp\; s názvem „ 55 let na country scéně.“
LOCATION:Černovice
END:VEVENT
END:VCALENDAR