BEGIN:VCALENDAR
VERSION:2.0
CALSCALE:GREGORIAN
PRODID:-//MyApp//Calendar 1.0//EN
BEGIN:VEVENT
METHOD:PUBLISH
UID:51129@regionalniportaly.cz
DTSTAMP:20260421T225944Z
DTSTART;VALUE=DATE:20251122
DTEND;VALUE=DATE:20251123
SUMMARY:RETROPLES 2025
DESCRIPTION:Již 17. ročník Sezimoústeckého RetroplesuHraje kapela Big Papa\, DJ a moderátor Daniel Čechtický\, s tanečním vystoupením se předvede jedna z formací S.araH.\,&nbsp\;připraveno bude také losování cen.A především hlavním programem bude výběr nejlepších retromodelů - Retromuž\, Retrožena\, Retropár\, Retrobanda.
LOCATION:Sezimovo Ústí
END:VEVENT
END:VCALENDAR