BEGIN:VCALENDAR
VERSION:2.0
CALSCALE:GREGORIAN
PRODID:-//MyApp//Calendar 1.0//EN
BEGIN:VEVENT
METHOD:PUBLISH
UID:50761@regionalniportaly.cz
DTSTAMP:20260422T075723Z
DTSTART;VALUE=DATE:20250321
DTEND;VALUE=DATE:20250322
SUMMARY:Zkurvení havlisti v Černovicích
DESCRIPTION:Kde jinde\, že? Kde jinde než v&nbsp\;sauně odhodit těžkosti světa a oddychnout si. A relaxovat. Ale jde to? Je to možné? Dnešní svět je tak složitý\, tak rychlý\, a tak nevyzpytatelný\, že na něho nemůžete přestat myslet nikde. Zvlášť když se jmenujete Hubert\, Bořek a Vladan\, kterým stav světa leží na srdci moc. A rozčiluje je. S&nbsp\;přibývající teplotou v&nbsp\;sauně\, řeší čím dál těžší otázky a čím dál víc se vztekají\, protože objevují další a další pasti. Naštěstí tihle tři chlapíci rozumí opravdu všemu\, a tak cestu ven najdou. Dokonce i ze sauny domů.Jestli vám není osud světa lhostejný\, přijďte si jejich názory poslechnout a probrat starosti našich dnů. Vaše mysl se určitě rozjasní.Výtečná komedie ze současnosti.Hrají Miroslav Hanuš\, Tomáš Měcháček\, Karel Zima nebo Michal Bumbálek.&nbsp\;
LOCATION:Černovice
END:VEVENT
END:VCALENDAR