BEGIN:VCALENDAR
VERSION:2.0
CALSCALE:GREGORIAN
PRODID:-//MyApp//Calendar 1.0//EN
BEGIN:VEVENT
METHOD:PUBLISH
UID:49118@regionalniportaly.cz
DTSTAMP:20260422T041937Z
DTSTART;VALUE=DATE:20250215
DTEND;VALUE=DATE:20250216
SUMMARY:Dukla Vozovna + Stará  Pešatová + Žádný Problém
DESCRIPTION:Po dlouhé době přivážíme koncert do Černovic&nbsp\;Už uteklo pár let\, kdy se naposledy v Černovicích konal nějaký koncert.&nbsp\;Broken Bones si pro vás na únor přichystali resuscitaci koncertů v Černovicích a chceme s tím pokračovat.Přijďte 15.2. 2025 do Černovické - nově opravené Sokolovny - užít si pořádnou dávku punku a rock’n’rollu. Přichystali jsme si 3 kapely\, které se do Černovic těší a doufají v pořádnou atmosféru\, co říkáte?&nbsp\;Sokolovna bude otevřena od 18:00 a lineup zveřejníme brzy. Kromě koncertů se můžete těšit i na bar\, kde bude z čeho vybírat a připravujeme pro vás i nějaké zajímavé akce.A na koho se tedy můžete těšit?Dukla VozovnaPardubická punkrocková skupina vznikla v roce 2001 poté\, co její zakládající členové pravidelně chodili na koncerty do klubu Žlutý pes. Původně hráli převzaté písničky od Tří sester\, Mňágy a Žďorp a podobně. Dnes hrají vlastní songy\, které určitě všichni znáte a v jejich skladbách nechybí ani harmonika a tuna pozitivní energie.Stará PešatováVe Staré Pešatové se potkala větší část zakládající sestavy táborské „zoopunkové“ skupiny Peshata z let 1997–2000: Petr Bína\, Roman Mašát\, Martin Mareda a Rosťa Gálik (od r. 1998). Pánové se dali znovu dohromady na podzim 2019\, aby si zahráli songy z nejstarších demáčů/alb Peshaty. Z původně jednorázového koncertního projektu se tak stala regulérní kapela.Žádný problémFormace Žádný problém je pelhřimovsko-táborská kapela založená na začátku roku 2018. Kapela vznikla na základě ukončení činnosti kapel\, kde kluci účinkovali. Nejedná se tedy o žádnou začínající kapelu. Její členové mají na svém kontě několik nahraných desek a odehraných festivalů třeba jako Přeštěnice\, Bernard fest a další... Kluci hrají stylově na pomezí Rock'n'rollu a punku s inspirací i v dalších stylech.Vstupenky lze zakoupit v předprodeji na smsticket.cz za zvýhodněnou cenu.Přijďte podpořit živou hudbu a zažít večer\, který v Černovicích již dlouho nebyl k vidění.BROKENBONES CULTure se na vás těší a za sdílení lásku 🖤&nbsp\;
LOCATION:Černovice
END:VEVENT
END:VCALENDAR