BEGIN:VCALENDAR
VERSION:2.0
CALSCALE:GREGORIAN
PRODID:-//MyApp//Calendar 1.0//EN
BEGIN:VEVENT
METHOD:PUBLISH
UID:47802@regionalniportaly.cz
DTSTAMP:20260422T054649Z
DTSTART;VALUE=DATE:20250116
DTEND;VALUE=DATE:20250117
SUMMARY:Jiří Kolbaba: Sedm divů Islandu
DESCRIPTION:Jiří Kolbaba opět v Černovicích. Tentokrát s besedou o Islandu.&nbsp\;Osamělá pevnina v severovýchodním Atlantiku je druhým největším ostrovem Evropy. Dynamická geologie z něj dělá ojedinělé\, mimořádně fotogenické místo. Objevíme termální prameny\, gejzíry\, bouřlivé vodopády\, třpytivé ledovce\, vulkanickou barevnou půdu i svěže zelené nekonečné plochy. Sugestivní krajina\, ve které potkáme spíše zbloudilé koně nebo ovce\, připomíná peklo i ráj. Autor byl na oblíbeném Islandu již dvaatřicetkrát.
LOCATION:Černovice
END:VEVENT
END:VCALENDAR