BEGIN:VCALENDAR
VERSION:2.0
CALSCALE:GREGORIAN
PRODID:-//MyApp//Calendar 1.0//EN
BEGIN:VEVENT
METHOD:PUBLISH
UID:46840@regionalniportaly.cz
DTSTAMP:20260422T025437Z
DTSTART;VALUE=DATE:20241217
DTEND;VALUE=DATE:20241218
SUMMARY:Jakub Jan Ryba "Česká mše vánoční"
DESCRIPTION:Přijďte si vychutnat svěží a radostnou atmosféru České mše vánoční „Hej\, Mistře!“ Jakuba Jana Ryby\, která neodmyslitelně patří k českým Vánocům. Znovu po roce ji ve velkém sále Kulturního domu Kamenice uslyšíte v podání místního Kamenického pěveckého sboru a smíšeného sboru Homunculi z Jílového u Prahy za doprovodu Symfonického orchestru Dalibora Havlíčka a solistů.
LOCATION:Kamenice
END:VEVENT
END:VCALENDAR