BEGIN:VCALENDAR
VERSION:2.0
CALSCALE:GREGORIAN
PRODID:-//MyApp//Calendar 1.0//EN
BEGIN:VEVENT
METHOD:PUBLISH
UID:46384@regionalniportaly.cz
DTSTAMP:20260422T025047Z
DTSTART;VALUE=DATE:20241211
DTEND;VALUE=DATE:20241212
SUMMARY:Benátky pod sněhem v Týnci
DESCRIPTION:Brilantní situační komedie o pozvání na večeři a zmatení jazyků.Jedni mají před svatbou\, druzí možná před rozchodem.Společné setkání může ale všechno převrátit.Jedno malé nedorozumění vede až k absurdním situacím.Gilles Dyrek je znám jako tvůrce moderních komedií. Je oblíbený pro svou nadsázku a vtip. "Benátky" vypráví příběh jedné "večeře s přáteli"\, která konfrontuje dva mladé páry s opravdovostí a falší jejich lásky. Gilles Dyrek se satirickým úsměvem přitom odhaluje i naivitu některých z nás nad řešením problémů okolního světa."Benátky pod sněhem" se s velkými úspěchy hrají&nbsp\; od svého vzniku v roce 2003 nejen po celé Francii\, ale i v zahraničí např. v Německu\, Rumunsku\, Polsku\, Velké Británii nebo Kanadě. Její inscenace posbíraly už mnoho ocenění\, například v rodné Francii byly vyhlášeny "hrou roku". Pod originálním názvem "Venise sous la neige" byla v roce 2016 natočena úspěšná filmová komedie.Postavy a obsazení:Patricie:&nbsp\;Veronika ArichtevaChristophe:&nbsp\;Mira NosekNathalie:&nbsp\;Lucie ŠtěpánkováJean-Luc:&nbsp\;Filip Cíl
LOCATION:Týnec nad Sázavou
END:VEVENT
END:VCALENDAR