BEGIN:VCALENDAR
VERSION:2.0
CALSCALE:GREGORIAN
PRODID:-//MyApp//Calendar 1.0//EN
BEGIN:VEVENT
METHOD:PUBLISH
UID:45953@regionalniportaly.cz
DTSTAMP:20260422T054826Z
DTSTART;VALUE=DATE:20241122
DTEND;VALUE=DATE:20241123
SUMMARY:Maturitní ples - 4P - SPŠ Tábor
DESCRIPTION:Třída 4P vás&nbsp\;všechny zve na&nbsp\;maturák "La Casa de Papel"\, kde společně odhalíme tajemství velké loupeže.
LOCATION:Tábor
END:VEVENT
END:VCALENDAR