BEGIN:VCALENDAR
VERSION:2.0
CALSCALE:GREGORIAN
PRODID:-//MyApp//Calendar 1.0//EN
BEGIN:VEVENT
METHOD:PUBLISH
UID:45855@regionalniportaly.cz
DTSTAMP:20260422T024027Z
DTSTART;VALUE=DATE:20241017
DTEND;VALUE=DATE:20241018
SUMMARY:MARIEN a Víťa Troníček v Černovicích
DESCRIPTION:Známá a velmi populární folková skupina Marien s Víťou Troníčkem zavítá do ČernovicHudební skupina z Pardubic patří k nejvýraznějším tvářím nastupující generace v žánru folkové\, country a trampské hudby. Věnuje se akustické kytarové muzice a vícehlasému zpěvu\, hraje melodické písně převážně z dílny Víti Troníčka.
LOCATION:Černovice
END:VEVENT
END:VCALENDAR