BEGIN:VCALENDAR
VERSION:2.0
CALSCALE:GREGORIAN
PRODID:-//MyApp//Calendar 1.0//EN
BEGIN:VEVENT
METHOD:PUBLISH
UID:45854@regionalniportaly.cz
DTSTAMP:20260422T025145Z
DTSTART;VALUE=DATE:20241025
DTEND;VALUE=DATE:20241026
SUMMARY:Tváře PETRA RYCHLÉHO v Černovicích
DESCRIPTION:Petr Rychlý zavítá se svojí zábavnou show do Černovic!Petr Rychlý vypráví historky nejen ze zákulisí divadla a televize\, ale i veselé příběhy z vlastního života. Během vystoupení baví diváky i svými hudebními vstupy ze současné nejpopulárnější televizní soutěže Tvoje tvář má známý hlas.
LOCATION:Černovice
END:VEVENT
END:VCALENDAR