BEGIN:VCALENDAR
VERSION:2.0
CALSCALE:GREGORIAN
PRODID:-//MyApp//Calendar 1.0//EN
BEGIN:VEVENT
METHOD:PUBLISH
UID:44452@regionalniportaly.cz
DTSTAMP:20260422T023931Z
DTSTART;VALUE=DATE:20240726
DTEND;VALUE=DATE:20240727
SUMMARY:Festival Right News Music Garden
DESCRIPTION:Right News Music Garden\, open-air festival věnovaný reggae hudbě\, se letos koná již patnáctým rokem\, a sice 26. až 27. července 2024 v Louňovicích pod Blaníkem\, a má podtitul „POSLEDNÍ ROČNÍK“. A není to jen podtitul\, je to fakt – jelikož jsme se po těch dlouhých patnácti letech rozhodli tuhle kapitolu uzavřít.\n \nhttps://www.vlasimsko.cz/zpravy/aktualne/26961--V-Lounovicich-pod-Blanikem-se-letos-uskutecni-posledni-rocnik-reggae-festivalu-Right-News.html
LOCATION:Louňovice pod Blaníkem
END:VEVENT
END:VCALENDAR