BEGIN:VCALENDAR
VERSION:2.0
CALSCALE:GREGORIAN
PRODID:-//MyApp//Calendar 1.0//EN
BEGIN:VEVENT
METHOD:PUBLISH
UID:44411@regionalniportaly.cz
DTSTAMP:20260422T004926Z
DTSTART;VALUE=DATE:20240831
DTEND;VALUE=DATE:20240901
SUMMARY:Z jižních Čech a Moravy
DESCRIPTION:Připravte se na velkou událost ! ! !Dechovky opět míří do Chýnova!Na 17. ročník Mezinárodního koncertu dechových hudeb&nbsp\;pozvali pořadatelé&nbsp\;jedny z nejlepších dechových kapel\, které momentálně na Moravě a na Slovensku jsou.31. srpna od 14:00 v parku před školou vystoupí kapely Záhorienka ze Slovenska\,&nbsp\;Motýlek z Rakouska\, Doubravanka\, Mistříňanka&nbsp\;a MUZIKANTI z JIŽNÍCH ČECH.&nbsp\;Program koncertu:Motýlek z RakouskaDoubravankaZáhorienka ze SlovenskaMUZIKANTI z JIŽNÍCH ČECH&nbsp\;MistříňankaPo skončení koncertu taneční zábava s Mistříňankou\, Muzikanty z jižních Čech do 22:00.Celým koncertem provází Karel Hegner.Změna programu vyhrazena.&nbsp\;Pro návštěvníky je připraveno:OBČERSTVENÍ&nbsp\;&nbsp\;je zajiště za příznivé ceny - maso z udírny\,&nbsp\;grilu\, halušky\, řízky\, bramborák\, domácí zákusky\,&nbsp\;&nbsp\;míchané nápoje\, pivo\, limo a další...&nbsp\;PARKOVÁNÍ&nbsp\;- v místě zdarma500 míst k sezení pod stany.&nbsp\;
LOCATION:Chýnov
END:VEVENT
END:VCALENDAR