BEGIN:VCALENDAR
VERSION:2.0
CALSCALE:GREGORIAN
PRODID:-//MyApp//Calendar 1.0//EN
BEGIN:VEVENT
METHOD:PUBLISH
UID:44135@regionalniportaly.cz
DTSTAMP:20260422T005104Z
DTSTART;VALUE=DATE:20241010
DTEND;VALUE=DATE:20241011
SUMMARY:Blbec k večeři
DESCRIPTION:
LOCATION:Kamenice
END:VEVENT
END:VCALENDAR