BEGIN:VCALENDAR
VERSION:2.0
CALSCALE:GREGORIAN
PRODID:-//MyApp//Calendar 1.0//EN
BEGIN:VEVENT
METHOD:PUBLISH
UID:44134@regionalniportaly.cz
DTSTAMP:20260422T005008Z
DTSTART;VALUE=DATE:20240919
DTEND;VALUE=DATE:20240920
SUMMARY:Scény z manželského života z dílny Ingmara Bergmana
DESCRIPTION:
LOCATION:Kamenice
END:VEVENT
END:VCALENDAR